BEGIN:VCALENDAR
VERSION:2.0
PRODID:-//Annette Bindernagel - ECPv6.15.16//NONSGML v1.0//EN
CALSCALE:GREGORIAN
METHOD:PUBLISH
X-WR-CALNAME:Annette Bindernagel
X-ORIGINAL-URL:https://annettebindernagel.de
X-WR-CALDESC:Veranstaltungen für Annette Bindernagel
REFRESH-INTERVAL;VALUE=DURATION:PT1H
X-Robots-Tag:noindex
X-PUBLISHED-TTL:PT1H
BEGIN:VTIMEZONE
TZID:Europe/Berlin
BEGIN:DAYLIGHT
TZOFFSETFROM:+0100
TZOFFSETTO:+0200
TZNAME:CEST
DTSTART:20200329T010000
END:DAYLIGHT
BEGIN:STANDARD
TZOFFSETFROM:+0200
TZOFFSETTO:+0100
TZNAME:CET
DTSTART:20201025T010000
END:STANDARD
BEGIN:DAYLIGHT
TZOFFSETFROM:+0100
TZOFFSETTO:+0200
TZNAME:CEST
DTSTART:20210328T010000
END:DAYLIGHT
BEGIN:STANDARD
TZOFFSETFROM:+0200
TZOFFSETTO:+0100
TZNAME:CET
DTSTART:20211031T010000
END:STANDARD
BEGIN:DAYLIGHT
TZOFFSETFROM:+0100
TZOFFSETTO:+0200
TZNAME:CEST
DTSTART:20220327T010000
END:DAYLIGHT
BEGIN:STANDARD
TZOFFSETFROM:+0200
TZOFFSETTO:+0100
TZNAME:CET
DTSTART:20221030T010000
END:STANDARD
BEGIN:DAYLIGHT
TZOFFSETFROM:+0100
TZOFFSETTO:+0200
TZNAME:CEST
DTSTART:20230326T010000
END:DAYLIGHT
BEGIN:STANDARD
TZOFFSETFROM:+0200
TZOFFSETTO:+0100
TZNAME:CET
DTSTART:20231029T010000
END:STANDARD
BEGIN:DAYLIGHT
TZOFFSETFROM:+0100
TZOFFSETTO:+0200
TZNAME:CEST
DTSTART:20240331T010000
END:DAYLIGHT
BEGIN:STANDARD
TZOFFSETFROM:+0200
TZOFFSETTO:+0100
TZNAME:CET
DTSTART:20241027T010000
END:STANDARD
BEGIN:DAYLIGHT
TZOFFSETFROM:+0100
TZOFFSETTO:+0200
TZNAME:CEST
DTSTART:20250330T010000
END:DAYLIGHT
BEGIN:STANDARD
TZOFFSETFROM:+0200
TZOFFSETTO:+0100
TZNAME:CET
DTSTART:20251026T010000
END:STANDARD
BEGIN:DAYLIGHT
TZOFFSETFROM:+0100
TZOFFSETTO:+0200
TZNAME:CEST
DTSTART:20260329T010000
END:DAYLIGHT
BEGIN:STANDARD
TZOFFSETFROM:+0200
TZOFFSETTO:+0100
TZNAME:CET
DTSTART:20261025T010000
END:STANDARD
END:VTIMEZONE
BEGIN:VEVENT
DTSTART;TZID=Europe/Berlin:20250613T163000
DTEND;TZID=Europe/Berlin:20250613T180000
DTSTAMP:20260422T165103
CREATED:20250610T195503Z
LAST-MODIFIED:20250610T200828Z
UID:269-1749832200-1749837600@annettebindernagel.de
SUMMARY:Vernissage »Mediterrane Ansichten«
DESCRIPTION:Ausstellungseröffnung mit musikalischer Begleitung. \n\n\n\nWerke von Bach\, Piazzola und Grapelli. Musiker: Mariusz (Violine) und Danny (Keyboard) Januszkiewicz.  \n\n\n\nAnnette Bindernagel fasziniert mit gemalten Bildern\, welche in ihrer Zeit in Spanien entstanden sind. Die verschachtelten\, farbenfrohen Dachlandschaften\, sommerlichen Gassen oder Hafenidyllen versprühen Leichtigkeit und Lebensfreude. Unter freiem Himmel sind meist erst die Aquarelle entstanden\, um direkt die Stimmung und den Moment einzufangen. Später und mit mehr Zeit wurden die Öl- und Acrylbilder gefertigt. Eine Ausstellung zum Eintauchen in mediterrane Ansichten. \n\n\n\nDie Ausstellung ist vom 13. Juni bis zum 29.8.2025 in der Stadtbibliothek Salzgitter-Lebenstedt zu sehen.
URL:https://annettebindernagel.de/event/vernissage-mediterrane-ansichten/
LOCATION:Stadtbibliothek Salzgitter-Lebenstedt\, Joachim-Campe-Straße 4\, Salzgitter\, Niedersachsen\, 38226\, Germany
ATTACH;FMTTYPE=image/jpeg:https://annettebindernagel.de/wp-content/uploads/2025/06/Annette-Bindernagel_Serie-Daecher_2024netz.jpg
ORGANIZER;CN="Stadtbibliothek Salzgitter-Lebenstedt":MAILTO:info@stadt.salzgitter.de
END:VEVENT
BEGIN:VEVENT
DTSTART;TZID=Europe/Berlin:20250613T090000
DTEND;TZID=Europe/Berlin:20250829T180000
DTSTAMP:20260422T165103
CREATED:20250610T200407Z
LAST-MODIFIED:20250610T200408Z
UID:277-1749805200-1756490400@annettebindernagel.de
SUMMARY:Ausstellung »Mediterrane Ansichten«
DESCRIPTION:Annette Bindernagel fasziniert mit gemalten Bildern\, welche in ihrer Zeit in Spanien entstanden sind. Die verschachtelten\, farbenfrohen Dachlandschaften\, sommerlichen Gassen oder Hafenidyllen versprühen Leichtigkeit und Lebensfreude. Unter freiem Himmel sind meist erst die Aquarelle entstanden\, um direkt die Stimmung und den Moment einzufangen. Später und mit mehr Zeit wurden die Öl- und Acrylbilder gefertigt. Eine Ausstellung zum Eintauchen in mediterrane Ansichten. \n\n\n\nSamstags andere Öffnungszeiten: 10:00 bis 14:00 Uhr
URL:https://annettebindernagel.de/event/ausstellung-mediterrane-ansichten/
LOCATION:Stadtbibliothek Salzgitter-Lebenstedt\, Joachim-Campe-Straße 4\, Salzgitter\, Niedersachsen\, 38226\, Germany
ATTACH;FMTTYPE=image/jpeg:https://annettebindernagel.de/wp-content/uploads/2025/06/Annette-Bindernagel_Serie-Daecher_2024netz.jpg
ORGANIZER;CN="Stadtbibliothek Salzgitter-Lebenstedt":MAILTO:info@stadt.salzgitter.de
END:VEVENT
BEGIN:VEVENT
DTSTART;TZID=Europe/Berlin:20240820T180000
DTEND;TZID=Europe/Berlin:20240820T200000
DTSTAMP:20260422T165103
CREATED:20240731T080340Z
LAST-MODIFIED:20240731T080652Z
UID:263-1724176800-1724184000@annettebindernagel.de
SUMMARY:Ausstellungseröffnung Sommerbilder aus Katalonien
DESCRIPTION:
URL:https://annettebindernagel.de/event/ausstellungseroeffnung-sommerbilder-aus-katalonien/
LOCATION:Puls Sparkassen-Salon\, Angoulemeplatz 2\, Hildesheim\, 31134\, Deutschland
CATEGORIES:Vernissage
END:VEVENT
BEGIN:VEVENT
DTSTART;TZID=Europe/Berlin:20240819T080000
DTEND;TZID=Europe/Berlin:20240902T170000
DTSTAMP:20260422T165103
CREATED:20240731T080014Z
LAST-MODIFIED:20240731T080927Z
UID:256-1724054400-1725296400@annettebindernagel.de
SUMMARY:Sommerbilder aus Katalonien
DESCRIPTION:Ausstellung im Sparkassen- Salon\, gefördert vom Projektbüro\, Kulturregion Hildesheim\n\n\n\n\n\n\n\nDie Malerin Annette Bindernagel\, zeigt Arbeiten in Öl oder Acryl von der Costa Brava und aus der Region Katalonien/ Spanien. Seit nunmehr 7 Jahren bereist sie mit ihrem Mann diese Region regelmäßig. Durch familiäre Bindungen des Mannes können sie gemeinsam Menschen und Landschaft dieser zauberhaften Kulturregion unmittelbar erleben bei ihren Besuchen und Exkursionen. Dadurch ist besonders ihr diese Region ans Herz gewachsen. Annette Bindernagel fertigt vor Ort gern Aquarelle in der Natur\, die später Zuhause im Studio als Vorlage dienen für ihre Öl- oder Acrylbilder\, ab und zu dient auch mal ein Foto als Vorlage. \n\n\n\nZur Ausstellungseröffnung stellt sich die Künstlerin vor\, berichtet von den besonderen Erlebnissen unter Menschen\, die mehr auf der Straße sind als Zuhause\, das Wetter macht es möglich\, freundlich und offen sind auch Fremden gegenüber. \n\n\n\nDazu liest Frau Christa\, Maria Bauermeister Auszüge aus dem Buch DER KATALANE von Noah Gordon\, um Vorstellungen zu Geschichte\, Land und Leuten zu vermitteln. \n\n\n\nDie Bilder können käuflich erworben werden.
URL:https://annettebindernagel.de/event/sommerbilder-aus-katalonien/
LOCATION:Puls Sparkassen-Salon\, Angoulemeplatz 2\, Hildesheim\, 31134\, Deutschland
CATEGORIES:Ausstellungen
ATTACH;FMTTYPE=image/jpeg:https://annettebindernagel.de/wp-content/uploads/2024/07/image1.jpg
END:VEVENT
BEGIN:VEVENT
DTSTART;TZID=Europe/Berlin:20240531T180000
DTEND;TZID=Europe/Berlin:20240531T180000
DTSTAMP:20260422T165103
CREATED:20240409T085830Z
LAST-MODIFIED:20240731T080721Z
UID:218-1717178400-1717178400@annettebindernagel.de
SUMMARY:Lange Nacht der Kulturwelten - Ausstellung
DESCRIPTION:Orte der Reflexion und Besinnung\n\n\n\n\n\n\n\nDie Malerin lässt Einblick nehmen in ihre Kraftquellen und in ihre Arbeitsweise der Malerei\, die nicht festgelegt ist auf einen Malstil. Vielmehr orientiert sie sich an dem Thema und versucht den Inhalt mal konstruktiv\, mal realistisch zum Ausdruck zu bringen.
URL:https://annettebindernagel.de/event/lange-nacht-der-kulturwelten-ausstellung/
LOCATION:Martin-Luther-Kirche\, Martin-Luther-Straße 33\, Hildesheim\, Niedersachsen\, 31137\, Deutschland
CATEGORIES:Ausstellungen
ATTACH;FMTTYPE=image/jpeg:https://annettebindernagel.de/wp-content/uploads/2024/04/image20.jpeg
END:VEVENT
BEGIN:VEVENT
DTSTART;TZID=Europe/Berlin:20240413T000000
DTEND;TZID=Europe/Berlin:20240427T235959
DTSTAMP:20260422T165103
CREATED:20240411T173617Z
LAST-MODIFIED:20240411T174823Z
UID:234-1712966400-1714262399@annettebindernagel.de
SUMMARY:Ausstellung Suche nach Hoffnung
DESCRIPTION:Mädchen allein. 2020\n\n\n\nAktuelle Arbeiten zu aktuellen Themen: Migration\, Flucht\, Hoffnung\, Sehnsucht. Am 13. April ab 12 Uhr lädt die Künstlerin zur Vernissage ein.
URL:https://annettebindernagel.de/event/ausstellung-suche-nach-hoffnung/
LOCATION:POPUP.Galerie 39\, Leinestraße 39\, Alfeld\, Niedersachsen\, 31036\, Deutschland
CATEGORIES:Ausstellungen
ATTACH;FMTTYPE=image/jpeg:https://annettebindernagel.de/wp-content/uploads/2024/04/Bindernagel-Maedchen-allein-oel-2020-40x50-1-scaled.jpg
END:VEVENT
BEGIN:VEVENT
DTSTART;TZID=Europe/Berlin:20240319T183000
DTEND;TZID=Europe/Berlin:20240319T203000
DTSTAMP:20260422T165103
CREATED:20240313T225632Z
LAST-MODIFIED:20240731T074756Z
UID:59-1710873000-1710880200@annettebindernagel.de
SUMMARY:Finissage Ausstellung Suche nach Hoffnung
DESCRIPTION:Seien Sie herzlich eingeladen\, gemeinsam mit der Künstlerin die Finissage der erfolgreich besuchten Ausstellung zu feiern.
URL:https://annettebindernagel.de/event/finissage-ausstellung-suche-nach-hoffnung/
LOCATION:Caritas Hildesheim\, Pfaffenstieg 12\, Hildesheim\, Niedersachsen\, 31134\, Deutschland
CATEGORIES:Finissage
ATTACH;FMTTYPE=image/png:https://annettebindernagel.de/wp-content/uploads/2024/03/Traum-eines-Jungen-2.png
END:VEVENT
BEGIN:VEVENT
DTSTART;TZID=Europe/Berlin:20240308T000000
DTEND;TZID=Europe/Berlin:20240412T235959
DTSTAMP:20260422T165103
CREATED:20240104T223905Z
LAST-MODIFIED:20240314T063612Z
UID:39-1709856000-1712966399@annettebindernagel.de
SUMMARY:Ausstellung Mediterane Ansichten
DESCRIPTION:Die Ausstellung umfasst neue und bestehende Werke der Malerin\, die auf ihren Reisen und zuhause entstanden sind. \nAm 9.3.24 lädt die Künstlerin ab 11 Uhr zur Vernissage ein. Seien Sie herzlich willkommen.
URL:https://annettebindernagel.de/event/mediterane-ansichten/
LOCATION:POPUP.Galerie 39\, Leinestraße 39\, Alfeld\, Niedersachsen\, 31036\, Deutschland
CATEGORIES:Ausstellungen
ATTACH;FMTTYPE=image/jpeg:https://annettebindernagel.de/wp-content/uploads/2024/03/Ausstellung-Alfeld.jpg
END:VEVENT
BEGIN:VEVENT
DTSTART;TZID=Europe/Berlin:20231128T190000
DTEND;TZID=Europe/Berlin:20231128T210000
DTSTAMP:20260422T165103
CREATED:20231110T225725Z
LAST-MODIFIED:20240314T002251Z
UID:61-1701198000-1701205200@annettebindernagel.de
SUMMARY:Führung durch Ausstellung Suche nach Hoffnung
DESCRIPTION:
URL:https://annettebindernagel.de/event/fuehrung-durch-ausstellung-suche-nach-hoffnung/
LOCATION:Caritas Hildesheim\, Pfaffenstieg 12\, Hildesheim\, Niedersachsen\, 31134\, Deutschland
CATEGORIES:Führung
END:VEVENT
BEGIN:VEVENT
DTSTART;TZID=Europe/Berlin:20230915T000000
DTEND;TZID=Europe/Berlin:20240328T235959
DTSTAMP:20260422T165103
CREATED:20230813T215453Z
LAST-MODIFIED:20240317T040144Z
UID:56-1694736000-1711670399@annettebindernagel.de
SUMMARY:Ausstellung Suche nach Hoffnung
DESCRIPTION:Aktuelle Arbeiten zu aktuellen Themen: Migration\, Flucht\, Hoffnung\, Sehnsucht. \nAm 28.11.23\, 19 Uhr lädt die Künstlerin zur Führung durch die Ausstellung ein. Eine Finissage findet am 19.3.2024 um 18:30 Uhr in festlichem Rahmen am gleichen Ort statt. Anmeldungen sind nicht nötig. Interessierte sind herzlich willkommen.
URL:https://annettebindernagel.de/event/suche-nach-hoffnung/
LOCATION:Caritas Hildesheim\, Pfaffenstieg 12\, Hildesheim\, Niedersachsen\, 31134\, Deutschland
CATEGORIES:Ausstellungen
ATTACH;FMTTYPE=image/png:https://annettebindernagel.de/wp-content/uploads/2023/08/Maedchen-allein.png
END:VEVENT
BEGIN:VEVENT
DTSTART;TZID=Europe/Berlin:20220624T000000
DTEND;TZID=Europe/Berlin:20220827T235959
DTSTAMP:20260422T165103
CREATED:20220513T215235Z
LAST-MODIFIED:20240314T065652Z
UID:52-1656028800-1661644799@annettebindernagel.de
SUMMARY:Ausstellung Gebäude
DESCRIPTION:Neun Arbeiten zum Thema „Gebäude“ in Acryl und Öl von sonnigen Straßen und Orten Südeuropas in den Schaufenstern.
URL:https://annettebindernagel.de/event/gebaeude/
LOCATION:Galerie Annette Lishke\, Burgstraße 8\, Hildesheim\, Niedersachsen\, 31134\, Deutschland
CATEGORIES:Ausstellungen
ATTACH;FMTTYPE=image/png:https://annettebindernagel.de/wp-content/uploads/2024/03/Ausstellung-Lishke.png
END:VEVENT
BEGIN:VEVENT
DTSTART;TZID=Europe/Berlin:20220506T000000
DTEND;TZID=Europe/Berlin:20220714T235959
DTSTAMP:20260422T165103
CREATED:20220430T231925Z
LAST-MODIFIED:20240314T064854Z
UID:120-1651795200-1657843199@annettebindernagel.de
SUMMARY:Ausstellung in der Kleinen Galerie
DESCRIPTION:
URL:https://annettebindernagel.de/event/ausstellung-in-der-kleinen-galerie/
LOCATION:Kleine Galerie\, Pfarrstraße 3\, Torgau\, Sachsen\, 04860\, Deutschland
CATEGORIES:Ausstellungen
ATTACH;FMTTYPE=image/jpeg:https://annettebindernagel.de/wp-content/uploads/2024/03/Ausstellung-Torgau.jpg
END:VEVENT
BEGIN:VEVENT
DTSTART;TZID=Europe/Berlin:20210724T000000
DTEND;TZID=Europe/Berlin:20210807T235959
DTSTAMP:20260422T165103
CREATED:20210621T231049Z
LAST-MODIFIED:20240411T174739Z
UID:113-1627084800-1628380799@annettebindernagel.de
SUMMARY:Ausstellung Hoffnung trägt alles
DESCRIPTION:Herzliche Einladung zu einer Ausstellung mit 9 Öl- und Acrylbildern der letzten Jahre in Bezug auf die Herausforderungen durch Flucht vor Krieg und Not sowie der Corona- Krise. Die Kulturfabrik LÖSEKE Hildesheim bietet momentan in einem Leerstand mitten in der Stadt die Möglichkeit für kreative Menschen ihre Arbeiten zu präsentieren. \nZu sehen sind außerdem Fotografien aus Alexandria und Hildesheim von Sara Adelaal und Illustrationen zum Thema Monster von Tahmineh Sezavar. \nÖffnungszeiten:\nMo 16-18 Uhr \nDi-Fr 15-19 Uhr
URL:https://annettebindernagel.de/event/ausstellung-hoffnung-traegt-alles/
LOCATION:Galerie der Kulturfabrik „Langer Garten Mitte“\, Almstraße 17\, Hildesheim\, Niedersachsen\, 31134\, Deutschland
CATEGORIES:Ausstellungen
ATTACH;FMTTYPE=image/jpeg:https://annettebindernagel.de/wp-content/uploads/2021/02/Galerie-Langer-Garten-Mitte_die-Kuenstlerinnen_DSC07858ausskl-scaled.jpg
END:VEVENT
BEGIN:VEVENT
DTSTART;TZID=Europe/Berlin:20210301T000000
DTEND;TZID=Europe/Berlin:20211120T235959
DTSTAMP:20260422T165103
CREATED:20210203T000848Z
LAST-MODIFIED:20240411T172820Z
UID:107-1614556800-1637452799@annettebindernagel.de
SUMMARY:Ausstellung Poc a poc durchs Leben
DESCRIPTION:Diese Ausstellung möchte ich in Anbetracht der besonders herausfordernden Gegebenheiten durch die Coronakrise den Mitarbeitern und Mitarbeiterinnen des Bernward-Krankenhauses sowie allen Patienten widmen. Das Thema „Poc a poc durchs Leben“ soll Bezug nehmen auf die kleinen Schritte und die Geduld\, die uns so manche Krankheit\, so manche Lebenssituation und Krise abverlangt\, oder wie in meinem Fall\, die Erfüllung eines Berufswunsches erst in der dritten Lebenshälfte. Poc a poc heißt im Katalanischen: Schritt für Schritt. \nIch habe immer gerne gezeichnet und gemalt seit meiner Jugend\, dann neben der Berufstätigkeit als Kinderkrankenschwester und besonders auf Reisen. Sie sehen hier vorwiegend Bilder von der Costa Brava\, Katalonien\, aber auch wenige von anderen Gegenden wie aus der Provence\, Umbrien\, dem Golf von Neapel. \nMein Anliegen ist etwas Farbe in den Alltag zu bringen und etwas von meiner Freude und Liebe zu den Regionen Europas zu vermitteln. \nAlle Bilder können erworben werden. Nehmen Sie Kontakt zu mir auf. Ich freue mich über Reaktionen zu den Bildern und über den Austausch. \nMögen Sie alle gesund bleiben oder gesund werden\, herzlich grüßt\nAnnette Bindernagel
URL:https://annettebindernagel.de/event/ausstellung-poc-a-poc-durchs-leben/
LOCATION:Bernward-Krankenhaus\, Treibestraße 9\, Hildesheim\, Niedersachsen\, 31134\, Deutschland
CATEGORIES:Ausstellungen
ATTACH;FMTTYPE=image/jpeg:https://annettebindernagel.de/wp-content/uploads/2024/03/Ausstellung-Berwardkrankenhaus.jpg
END:VEVENT
END:VCALENDAR